Package: bgx Version: 1.72.0 Command: rm -rf bgx.buildbin-libdir && mkdir bgx.buildbin-libdir && F:\biocbuild\bbs-3.20-bioc\R\bin\R.exe CMD INSTALL --build --library=bgx.buildbin-libdir bgx_1.72.0.tar.gz StartedAt: 2025-04-01 07:44:22 -0400 (Tue, 01 Apr 2025) EndedAt: 2025-04-01 07:46:31 -0400 (Tue, 01 Apr 2025) EllapsedTime: 129.2 seconds RetCode: 0 Status: OK PackageFile: bgx_1.72.0.zip PackageFileSize: 536.3 KiB