Package: bettr Version: 1.2.0 Command: /Library/Frameworks/R.framework/Resources/bin/R CMD INSTALL bettr StartedAt: 2025-03-31 16:53:20 -0400 (Mon, 31 Mar 2025) EndedAt: 2025-03-31 16:53:51 -0400 (Mon, 31 Mar 2025) EllapsedTime: 31.0 seconds RetCode: 0 Status: OK