Package: betaHMM Version: 1.2.1 Command: rm -rf betaHMM.buildbin-libdir && mkdir betaHMM.buildbin-libdir && F:\biocbuild\bbs-3.20-bioc\R\bin\R.exe CMD INSTALL --build --library=betaHMM.buildbin-libdir betaHMM_1.2.1.tar.gz StartedAt: 2025-04-01 07:44:08 -0400 (Tue, 01 Apr 2025) EndedAt: 2025-04-01 07:45:00 -0400 (Tue, 01 Apr 2025) EllapsedTime: 52.6 seconds RetCode: 0 Status: OK PackageFile: betaHMM_1.2.1.zip PackageFileSize: 3.537 MiB