Package: betaHMM Version: 1.2.1 Command: /Library/Frameworks/R.framework/Resources/bin/R CMD INSTALL betaHMM StartedAt: 2025-03-31 15:36:43 -0400 (Mon, 31 Mar 2025) EndedAt: 2025-03-31 15:37:11 -0400 (Mon, 31 Mar 2025) EllapsedTime: 27.6 seconds RetCode: 0 Status: OK