Package: benchdamic Version: 1.12.2 Command: /home/biocbuild/bbs-3.20-bioc/R/bin/R CMD INSTALL benchdamic StartedAt: 2025-03-31 15:51:50 -0400 (Mon, 31 Mar 2025) EndedAt: 2025-03-31 15:52:55 -0400 (Mon, 31 Mar 2025) EllapsedTime: 64.5 seconds RetCode: 0 Status: OK