Package: benchdamic Version: 1.12.2 Command: /home/biocbuild/bbs-3.20-bioc/R/bin/R CMD build --keep-empty-dirs --no-resave-data --md5 benchdamic StartedAt: 2025-03-31 16:19:13 -0400 (Mon, 31 Mar 2025) EndedAt: 2025-03-31 16:38:40 -0400 (Mon, 31 Mar 2025) EllapsedTime: 1167.2 seconds RetCode: 0 Status: OK PackageFile: benchdamic_1.12.2.tar.gz PackageFileSize: 5.454 MiB