Package: beer Version: 1.10.0 Command: /home/biocbuild/R/R/bin/R CMD INSTALL beer StartedAt: 2025-03-31 20:38:51 -0000 (Mon, 31 Mar 2025) EndedAt: 2025-03-31 20:38:57 -0000 (Mon, 31 Mar 2025) EllapsedTime: 6.1 seconds RetCode: 1 Status: ERROR