Package: beer Version: 1.10.0 Command: /home/biocbuild/bbs-3.20-bioc/R/bin/R CMD check --install=check:beer.install-out.txt --library=/home/biocbuild/bbs-3.20-bioc/R/site-library --timings beer_1.10.0.tar.gz StartedAt: 2025-03-31 20:05:22 -0400 (Mon, 31 Mar 2025) EndedAt: 2025-03-31 20:13:37 -0400 (Mon, 31 Mar 2025) EllapsedTime: 494.6 seconds RetCode: 0 Status: OK CheckDir: beer.Rcheck Warnings: 0