Package: beer Version: 1.10.0 Command: /Library/Frameworks/R.framework/Resources/bin/R CMD INSTALL beer StartedAt: 2025-03-31 16:32:42 -0400 (Mon, 31 Mar 2025) EndedAt: 2025-03-31 16:33:01 -0400 (Mon, 31 Mar 2025) EllapsedTime: 19.1 seconds RetCode: 0 Status: OK