Package: beadarray Version: 2.56.0 Command: rm -rf beadarray.buildbin-libdir && mkdir beadarray.buildbin-libdir && F:\biocbuild\bbs-3.20-bioc\R\bin\R.exe CMD INSTALL --build --library=beadarray.buildbin-libdir beadarray_2.56.0.tar.gz StartedAt: 2025-04-01 07:43:45 -0400 (Tue, 01 Apr 2025) EndedAt: 2025-04-01 07:45:48 -0400 (Tue, 01 Apr 2025) EllapsedTime: 122.6 seconds RetCode: 0 Status: OK PackageFile: beadarray_2.56.0.zip PackageFileSize: 4.771 MiB