Package: beachmat Version: 2.22.0 Command: /Library/Frameworks/R.framework/Resources/bin/R CMD INSTALL beachmat StartedAt: 2025-03-31 15:11:20 -0400 (Mon, 31 Mar 2025) EndedAt: 2025-03-31 15:17:53 -0400 (Mon, 31 Mar 2025) EllapsedTime: 393.0 seconds RetCode: 0 Status: OK