Package: beachmat.hdf5 Version: 1.4.0 Command: /home/biocbuild/R/R/bin/R CMD check --install=check:beachmat.hdf5.install-out.txt --library=/home/biocbuild/R/R/site-library --no-vignettes --timings beachmat.hdf5_1.4.0.tar.gz StartedAt: 2025-04-01 04:07:27 -0000 (Tue, 01 Apr 2025) EndedAt: 2025-04-01 04:10:23 -0000 (Tue, 01 Apr 2025) EllapsedTime: 176.3 seconds RetCode: 0 Status: WARNINGS CheckDir: beachmat.hdf5.Rcheck Warnings: 1