Package: beachmat.hdf5 Version: 1.4.0 Command: F:\biocbuild\bbs-3.20-bioc\R\bin\R.exe CMD INSTALL beachmat.hdf5 StartedAt: 2025-03-31 15:47:30 -0400 (Mon, 31 Mar 2025) EndedAt: 2025-03-31 15:51:25 -0400 (Mon, 31 Mar 2025) EllapsedTime: 234.3 seconds RetCode: 0 Status: OK