Package: beachmat.hdf5 Version: 1.4.0 Command: /Library/Frameworks/R.framework/Resources/bin/R CMD INSTALL beachmat.hdf5 StartedAt: 2025-03-31 15:20:15 -0400 (Mon, 31 Mar 2025) EndedAt: 2025-03-31 15:21:10 -0400 (Mon, 31 Mar 2025) EllapsedTime: 54.9 seconds RetCode: 0 Status: OK