Package: beachmat.hdf5 Version: 1.4.0 Command: /Library/Frameworks/R.framework/Resources/bin/R CMD check --install=check:beachmat.hdf5.install-out.txt --library=/Library/Frameworks/R.framework/Resources/library --no-vignettes --timings beachmat.hdf5_1.4.0.tar.gz StartedAt: 2025-04-01 11:37:57 -0400 (Tue, 01 Apr 2025) EndedAt: 2025-04-01 11:40:17 -0400 (Tue, 01 Apr 2025) EllapsedTime: 140.0 seconds RetCode: 0 Status: WARNINGS CheckDir: beachmat.hdf5.Rcheck Warnings: 1