Package: bcSeq Version: 1.28.0 Command: /Library/Frameworks/R.framework/Resources/bin/R CMD INSTALL bcSeq StartedAt: 2025-03-31 15:13:08 -0400 (Mon, 31 Mar 2025) EndedAt: 2025-03-31 15:14:26 -0400 (Mon, 31 Mar 2025) EllapsedTime: 78.3 seconds RetCode: 0 Status: OK