Package: bcSeq Version: 1.28.0 Command: /Library/Frameworks/R.framework/Resources/bin/R CMD check --install=check:bcSeq.install-out.txt --library=/Library/Frameworks/R.framework/Resources/library --no-vignettes --timings bcSeq_1.28.0.tar.gz StartedAt: 2025-03-31 23:40:05 -0400 (Mon, 31 Mar 2025) EndedAt: 2025-03-31 23:43:20 -0400 (Mon, 31 Mar 2025) EllapsedTime: 195.2 seconds RetCode: 0 Status: OK CheckDir: bcSeq.Rcheck Warnings: 0