Package: baySeq Version: 2.40.0 Command: /Library/Frameworks/R.framework/Resources/bin/R CMD INSTALL baySeq StartedAt: 2025-03-31 15:13:36 -0400 (Mon, 31 Mar 2025) EndedAt: 2025-03-31 15:14:16 -0400 (Mon, 31 Mar 2025) EllapsedTime: 40.4 seconds RetCode: 0 Status: OK