Package: baySeq Version: 2.40.0 Command: /Library/Frameworks/R.framework/Resources/bin/R CMD check --install=check:baySeq.install-out.txt --library=/Library/Frameworks/R.framework/Resources/library --no-vignettes --timings baySeq_2.40.0.tar.gz StartedAt: 2025-03-31 23:38:52 -0400 (Mon, 31 Mar 2025) EndedAt: 2025-03-31 23:45:39 -0400 (Mon, 31 Mar 2025) EllapsedTime: 407.8 seconds RetCode: 0 Status: OK CheckDir: baySeq.Rcheck Warnings: 0