Package: bayNorm Version: 1.24.0 Command: /home/biocbuild/R/R/bin/R CMD check --install=check:bayNorm.install-out.txt --library=/home/biocbuild/R/R/site-library --no-vignettes --timings bayNorm_1.24.0.tar.gz StartedAt: 2025-04-01 04:05:48 -0000 (Tue, 01 Apr 2025) EndedAt: 2025-04-01 04:09:47 -0000 (Tue, 01 Apr 2025) EllapsedTime: 239.4 seconds RetCode: 0 Status: OK CheckDir: bayNorm.Rcheck Warnings: 0