Package: bayNorm Version: 1.24.0 Command: rm -rf bayNorm.buildbin-libdir && mkdir bayNorm.buildbin-libdir && F:\biocbuild\bbs-3.20-bioc\R\bin\R.exe CMD INSTALL --build --library=bayNorm.buildbin-libdir bayNorm_1.24.0.tar.gz StartedAt: 2025-04-01 07:43:24 -0400 (Tue, 01 Apr 2025) EndedAt: 2025-04-01 07:44:16 -0400 (Tue, 01 Apr 2025) EllapsedTime: 51.7 seconds RetCode: 0 Status: OK PackageFile: bayNorm_1.24.0.zip PackageFileSize: 850.9 KiB