Package: basilisk Version: 1.18.0 Command: rm -rf basilisk.buildbin-libdir && mkdir basilisk.buildbin-libdir && /Users/biocbuild/BBS/utils/build-universal.sh basilisk_1.18.0.tar.gz /Library/Frameworks/R.framework/Resources/bin/R basilisk.buildbin-libdir StartedAt: 2025-04-01 11:27:05 -0400 (Tue, 01 Apr 2025) EndedAt: 2025-04-01 11:27:20 -0400 (Tue, 01 Apr 2025) EllapsedTime: 14.1 seconds RetCode: 0 Status: OK PackageFile: basilisk_1.18.0.tgz PackageFileSize: 310.6 KiB