Package: barcodetrackR Version: 1.14.0 Command: /home/biocbuild/R/R/bin/R CMD INSTALL barcodetrackR StartedAt: 2025-03-31 20:46:40 -0000 (Mon, 31 Mar 2025) EndedAt: 2025-03-31 20:47:11 -0000 (Mon, 31 Mar 2025) EllapsedTime: 30.3 seconds RetCode: 0 Status: OK