Package: barcodetrackR Version: 1.14.0 Command: /home/biocbuild/R/R/bin/R CMD build --keep-empty-dirs --no-resave-data barcodetrackR StartedAt: 2025-03-31 21:30:56 -0000 (Mon, 31 Mar 2025) EndedAt: 2025-03-31 21:32:36 -0000 (Mon, 31 Mar 2025) EllapsedTime: 100.0 seconds RetCode: 0 Status: OK PackageFile: barcodetrackR_1.14.0.tar.gz PackageFileSize: 2.048 MiB