Package: banocc Version: 1.30.0 Command: chmod a+r banocc -R && F:\biocbuild\bbs-3.20-bioc\R\bin\R.exe CMD build --keep-empty-dirs --no-resave-data banocc StartedAt: 2025-03-31 17:27:38 -0400 (Mon, 31 Mar 2025) EndedAt: 2025-03-31 17:32:23 -0400 (Mon, 31 Mar 2025) EllapsedTime: 284.8 seconds RetCode: 0 Status: OK PackageFile: banocc_1.30.0.tar.gz PackageFileSize: 25.57 MiB