Package: banocc Version: 1.30.0 Command: rm -rf banocc.buildbin-libdir && mkdir banocc.buildbin-libdir && F:\biocbuild\bbs-3.20-bioc\R\bin\R.exe CMD INSTALL --build --library=banocc.buildbin-libdir banocc_1.30.0.tar.gz StartedAt: 2025-04-01 07:42:38 -0400 (Tue, 01 Apr 2025) EndedAt: 2025-04-01 07:43:02 -0400 (Tue, 01 Apr 2025) EllapsedTime: 24.4 seconds RetCode: 0 Status: OK PackageFile: banocc_1.30.0.zip PackageFileSize: 1.087 MiB