Package: bandle Version: 1.10.0 Command: /home/biocbuild/R/R/bin/R CMD INSTALL bandle StartedAt: 2025-03-31 21:02:15 -0000 (Mon, 31 Mar 2025) EndedAt: 2025-03-31 21:02:26 -0000 (Mon, 31 Mar 2025) EllapsedTime: 10.2 seconds RetCode: 1 Status: ERROR