Package: bandle Version: 1.10.0 Command: /home/biocbuild/bbs-3.20-bioc/R/bin/R CMD INSTALL bandle StartedAt: 2025-03-31 15:52:17 -0400 (Mon, 31 Mar 2025) EndedAt: 2025-03-31 15:52:24 -0400 (Mon, 31 Mar 2025) EllapsedTime: 7.3 seconds RetCode: 1 Status: ERROR