Package: bandle Version: 1.10.0 Command: /Library/Frameworks/R.framework/Resources/bin/R CMD INSTALL bandle StartedAt: 2025-03-31 17:38:51 -0400 (Mon, 31 Mar 2025) EndedAt: 2025-03-31 17:38:56 -0400 (Mon, 31 Mar 2025) EllapsedTime: 5.8 seconds RetCode: 1 Status: ERROR