Package: bamsignals Version: 1.38.0 Command: /home/biocbuild/R/R/bin/R CMD INSTALL bamsignals StartedAt: 2025-03-31 20:19:32 -0000 (Mon, 31 Mar 2025) EndedAt: 2025-03-31 20:20:03 -0000 (Mon, 31 Mar 2025) EllapsedTime: 30.7 seconds RetCode: 0 Status: OK