Package: bamsignals Version: 1.38.0 Command: /Library/Frameworks/R.framework/Resources/bin/R CMD build --keep-empty-dirs --no-resave-data bamsignals StartedAt: 2025-03-31 19:00:50 -0400 (Mon, 31 Mar 2025) EndedAt: 2025-03-31 19:01:26 -0400 (Mon, 31 Mar 2025) EllapsedTime: 35.4 seconds RetCode: 0 Status: OK PackageFile: bamsignals_1.38.0.tar.gz PackageFileSize: 3.151 MiB