Package: bambu Version: 3.8.3 Command: /Library/Frameworks/R.framework/Resources/bin/R CMD build --keep-empty-dirs --no-resave-data bambu StartedAt: 2025-03-31 19:00:38 -0400 (Mon, 31 Mar 2025) EndedAt: 2025-03-31 19:14:06 -0400 (Mon, 31 Mar 2025) EllapsedTime: 808.5 seconds RetCode: 0 Status: OK PackageFile: bambu_3.8.3.tar.gz PackageFileSize: 2.291 MiB