Package: ballgown Version: 2.38.0 Command: /Library/Frameworks/R.framework/Resources/bin/R CMD INSTALL ballgown StartedAt: 2025-03-31 16:14:36 -0400 (Mon, 31 Mar 2025) EndedAt: 2025-03-31 16:15:56 -0400 (Mon, 31 Mar 2025) EllapsedTime: 79.7 seconds RetCode: 0 Status: OK