Package: awst Version: 1.14.0 Command: /home/biocbuild/R/R/bin/R CMD INSTALL awst StartedAt: 2025-03-31 20:20:57 -0000 (Mon, 31 Mar 2025) EndedAt: 2025-03-31 20:21:22 -0000 (Mon, 31 Mar 2025) EllapsedTime: 24.8 seconds RetCode: 0 Status: OK