Package: awst Version: 1.14.0 Command: /home/biocbuild/R/R/bin/R CMD check --install=check:awst.install-out.txt --library=/home/biocbuild/R/R/site-library --no-vignettes --timings awst_1.14.0.tar.gz StartedAt: 2025-04-01 04:00:01 -0000 (Tue, 01 Apr 2025) EndedAt: 2025-04-01 04:03:20 -0000 (Tue, 01 Apr 2025) EllapsedTime: 198.3 seconds RetCode: 0 Status: OK CheckDir: awst.Rcheck Warnings: 0