Package: awst Version: 1.14.0 Command: /Library/Frameworks/R.framework/Resources/bin/R CMD check --install=check:awst.install-out.txt --library=/Library/Frameworks/R.framework/Resources/library --no-vignettes --timings awst_1.14.0.tar.gz StartedAt: 2025-04-01 11:15:06 -0400 (Tue, 01 Apr 2025) EndedAt: 2025-04-01 11:17:50 -0400 (Tue, 01 Apr 2025) EllapsedTime: 164.2 seconds RetCode: 0 Status: OK CheckDir: awst.Rcheck Warnings: 0