Package: awst Version: 1.14.0 Command: /Library/Frameworks/R.framework/Resources/bin/R CMD build --keep-empty-dirs --no-resave-data awst StartedAt: 2025-03-31 18:57:52 -0400 (Mon, 31 Mar 2025) EndedAt: 2025-03-31 18:58:47 -0400 (Mon, 31 Mar 2025) EllapsedTime: 55.0 seconds RetCode: 0 Status: OK PackageFile: awst_1.14.0.tar.gz PackageFileSize: 445.7 KiB