Package: attract Version: 1.58.0 Command: chmod a+r attract -R && F:\biocbuild\bbs-3.20-bioc\R\bin\R.exe CMD build --keep-empty-dirs --no-resave-data attract StartedAt: 2025-03-31 17:24:47 -0400 (Mon, 31 Mar 2025) EndedAt: 2025-03-31 17:27:40 -0400 (Mon, 31 Mar 2025) EllapsedTime: 173.4 seconds RetCode: 0 Status: OK PackageFile: attract_1.58.0.tar.gz PackageFileSize: 4.207 MiB