Package: attract Version: 1.58.0 Command: /home/biocbuild/bbs-3.20-bioc/R/bin/R CMD INSTALL attract StartedAt: 2025-03-31 15:45:31 -0400 (Mon, 31 Mar 2025) EndedAt: 2025-03-31 15:45:52 -0400 (Mon, 31 Mar 2025) EllapsedTime: 20.7 seconds RetCode: 0 Status: OK