Package: attract Version: 1.58.0 Command: /Library/Frameworks/R.framework/Resources/bin/R CMD INSTALL attract StartedAt: 2025-03-31 16:11:23 -0400 (Mon, 31 Mar 2025) EndedAt: 2025-03-31 16:12:12 -0400 (Mon, 31 Mar 2025) EllapsedTime: 48.5 seconds RetCode: 0 Status: OK