Package: attract Version: 1.58.0 Command: /Library/Frameworks/R.framework/Resources/bin/R CMD INSTALL attract StartedAt: 2025-03-31 17:13:43 -0400 (Mon, 31 Mar 2025) EndedAt: 2025-03-31 17:14:08 -0400 (Mon, 31 Mar 2025) EllapsedTime: 25.6 seconds RetCode: 0 Status: OK