Package: attract Version: 1.58.0 Command: /Library/Frameworks/R.framework/Resources/bin/R CMD build --keep-empty-dirs --no-resave-data attract StartedAt: 2025-03-31 18:55:28 -0400 (Mon, 31 Mar 2025) EndedAt: 2025-03-31 18:58:17 -0400 (Mon, 31 Mar 2025) EllapsedTime: 168.4 seconds RetCode: 0 Status: OK PackageFile: attract_1.58.0.tar.gz PackageFileSize: 4.294 MiB