Package: atena Version: 1.12.0 Command: rm -rf atena.buildbin-libdir && mkdir atena.buildbin-libdir && F:\biocbuild\bbs-3.20-bioc\R\bin\R.exe CMD INSTALL --build --library=atena.buildbin-libdir atena_1.12.0.tar.gz StartedAt: 2025-04-01 07:41:46 -0400 (Tue, 01 Apr 2025) EndedAt: 2025-04-01 07:42:49 -0400 (Tue, 01 Apr 2025) EllapsedTime: 62.6 seconds RetCode: 0 Status: OK PackageFile: atena_1.12.0.zip PackageFileSize: 1.712 MiB