Package: atena Version: 1.12.0 Command: /Library/Frameworks/R.framework/Resources/bin/R CMD INSTALL atena StartedAt: 2025-03-31 15:32:22 -0400 (Mon, 31 Mar 2025) EndedAt: 2025-03-31 15:33:54 -0400 (Mon, 31 Mar 2025) EllapsedTime: 92.8 seconds RetCode: 0 Status: OK