Package: atena Version: 1.12.0 Command: rm -rf atena.buildbin-libdir && mkdir atena.buildbin-libdir && /Users/biocbuild/BBS/utils/build-universal.sh atena_1.12.0.tar.gz /Library/Frameworks/R.framework/Resources/bin/R atena.buildbin-libdir StartedAt: 2025-04-01 11:25:48 -0400 (Tue, 01 Apr 2025) EndedAt: 2025-04-01 11:27:20 -0400 (Tue, 01 Apr 2025) EllapsedTime: 91.4 seconds RetCode: 0 Status: OK PackageFile: atena_1.12.0.tgz PackageFileSize: 1.755 MiB