Package: atena Version: 1.12.0 Command: /Library/Frameworks/R.framework/Resources/bin/R CMD build --keep-empty-dirs --no-resave-data atena StartedAt: 2025-03-31 18:52:15 -0400 (Mon, 31 Mar 2025) EndedAt: 2025-03-31 19:04:39 -0400 (Mon, 31 Mar 2025) EllapsedTime: 744.5 seconds RetCode: 0 Status: OK PackageFile: atena_1.12.0.tar.gz PackageFileSize: 1.282 MiB