Package: atSNP Version: 1.22.0 Command: /Library/Frameworks/R.framework/Resources/bin/R CMD check --install=check:atSNP.install-out.txt --library=/Library/Frameworks/R.framework/Resources/library --no-vignettes --timings atSNP_1.22.0.tar.gz StartedAt: 2025-03-31 23:27:18 -0400 (Mon, 31 Mar 2025) EndedAt: 2025-03-31 23:39:15 -0400 (Mon, 31 Mar 2025) EllapsedTime: 717.1 seconds RetCode: 0 Status: OK CheckDir: atSNP.Rcheck Warnings: 0