Package: artMS Version: 1.24.0 Command: /home/biocbuild/R/R/bin/R CMD INSTALL artMS StartedAt: 2025-03-31 21:06:43 -0000 (Mon, 31 Mar 2025) EndedAt: 2025-03-31 21:07:22 -0000 (Mon, 31 Mar 2025) EllapsedTime: 39.2 seconds RetCode: 0 Status: OK