Package: artMS Version: 1.24.0 Command: /home/biocbuild/R/R/bin/R CMD check --install=check:artMS.install-out.txt --library=/home/biocbuild/R/R/site-library --no-vignettes --timings artMS_1.24.0.tar.gz StartedAt: 2025-04-01 03:55:58 -0000 (Tue, 01 Apr 2025) EndedAt: 2025-04-01 04:00:01 -0000 (Tue, 01 Apr 2025) EllapsedTime: 243.6 seconds RetCode: 0 Status: OK CheckDir: artMS.Rcheck Warnings: 0