Package: artMS Version: 1.24.0 Command: /home/biocbuild/R/R/bin/R CMD build --keep-empty-dirs --no-resave-data artMS StartedAt: 2025-03-31 21:24:01 -0000 (Mon, 31 Mar 2025) EndedAt: 2025-03-31 21:25:12 -0000 (Mon, 31 Mar 2025) EllapsedTime: 70.0 seconds RetCode: 0 Status: OK PackageFile: artMS_1.24.0.tar.gz PackageFileSize: 3.653 MiB